BEGIN:VCALENDAR
VERSION:2.0
PRODID:-//Sepe - ECPv6.15.20//NONSGML v1.0//EN
CALSCALE:GREGORIAN
METHOD:PUBLISH
X-WR-CALNAME:Sepe
X-ORIGINAL-URL:https://seperj.org.br
X-WR-CALDESC:Eventos para Sepe
REFRESH-INTERVAL;VALUE=DURATION:PT1H
X-Robots-Tag:noindex
X-PUBLISHED-TTL:PT1H
BEGIN:VTIMEZONE
TZID:America/Sao_Paulo
BEGIN:STANDARD
TZOFFSETFROM:-0300
TZOFFSETTO:-0300
TZNAME:-03
DTSTART:20240101T000000
END:STANDARD
END:VTIMEZONE
BEGIN:VEVENT
DTSTART;TZID=America/Sao_Paulo:20250710T170000
DTEND;TZID=America/Sao_Paulo:20250710T190000
DTSTAMP:20260426T011026
CREATED:20250708T212723Z
LAST-MODIFIED:20250708T212723Z
UID:44863-1752166800-1752174000@seperj.org.br
SUMMARY:ATO PELA TAXAÇÃO DOS SUPER-RICOS E PELO FIM DA ESCALA 6 X 1
DESCRIPTION:Ato em frente à Bolsa de Valores do Rio (Praça XV)\, 17h.
URL:https://seperj.org.br/event/ato-pela-taxacao-dos-super-ricos-e-pelo-fim-da-escala-6-x-1/
END:VEVENT
BEGIN:VEVENT
DTSTART;TZID=America/Sao_Paulo:20250728T180000
DTEND;TZID=America/Sao_Paulo:20250728T210000
DTSTAMP:20260426T011026
CREATED:20250722T213457Z
LAST-MODIFIED:20250722T213929Z
UID:44919-1753725600-1753736400@seperj.org.br
SUMMARY:ASSEMBLEIA PARA O CONSELHO MUNICIPAL DE EDUCAÇÃO RJ
DESCRIPTION:Assembleia online para a eleição de representantes do Sepe no Conselho
URL:https://seperj.org.br/event/assembleia-online-para-escolher-representantes-no-conselho-municipal-de-educacao-rj/
END:VEVENT
END:VCALENDAR