BEGIN:VCALENDAR
VERSION:2.0
PRODID:-//Sepe - ECPv6.15.20//NONSGML v1.0//EN
CALSCALE:GREGORIAN
METHOD:PUBLISH
X-ORIGINAL-URL:https://seperj.org.br
X-WR-CALDESC:Eventos para Sepe
REFRESH-INTERVAL;VALUE=DURATION:PT1H
X-Robots-Tag:noindex
X-PUBLISHED-TTL:PT1H
BEGIN:VTIMEZONE
TZID:America/Sao_Paulo
BEGIN:STANDARD
TZOFFSETFROM:-0300
TZOFFSETTO:-0300
TZNAME:-03
DTSTART:20240101T000000
END:STANDARD
END:VTIMEZONE
BEGIN:VEVENT
DTSTART;TZID=America/Sao_Paulo:20250901T190000
DTEND;TZID=America/Sao_Paulo:20250901T190000
DTSTAMP:20260425T215011
CREATED:20250821T135828Z
LAST-MODIFIED:20250827T190157Z
UID:45241-1756753200-1756753200@seperj.org.br
SUMMARY:PLENÁRIA ONLINE SOBRE MINUTAGEM
DESCRIPTION:Acesse: https://us02web.zoom.us/j/82617485966?pwd=RmAYW9SsvCkahYp6SKVOumbhtRaOjv.1ID da reunião: 826 1748 5966Senha: 965261
URL:https://seperj.org.br/event/45241/
END:VEVENT
BEGIN:VEVENT
DTSTART;TZID=America/Sao_Paulo:20250903T190000
DTEND;TZID=America/Sao_Paulo:20250903T190000
DTSTAMP:20260425T215011
CREATED:20250821T140021Z
LAST-MODIFIED:20250903T195129Z
UID:45243-1756926000-1756926000@seperj.org.br
SUMMARY:PLENÁRIA ONLINE DE SECRETÁRIOS ESCOLARES REDE MUNICIPAL RJ
DESCRIPTION:Acesse: https://us02web.zoom.us/j/89575469546?pwd=5wMEiCsfQx247AGFarfhcdJ1dcIgfa.1ID da reunião: 895 7546 9546Senha: 280105
URL:https://seperj.org.br/event/plenaria-on-line-sobre-secretarios-escolares-rede-municipal-rj/
END:VEVENT
BEGIN:VEVENT
DTSTART;TZID=America/Sao_Paulo:20250905T190000
DTEND;TZID=America/Sao_Paulo:20250905T190000
DTSTAMP:20260425T215011
CREATED:20250821T140143Z
LAST-MODIFIED:20250908T204907Z
UID:45245-1757098800-1757098800@seperj.org.br
SUMMARY:PLENÁRIA ONLINE EJA NA REDE MUNICIPAL DO RIO
DESCRIPTION:https://us02web.zoom.us/j/83449642201?pwd=aJGh5WpTx0NpjkP5yq2dwMb43mahSa.1ID da reunião: 834 4964 2201Senha: 360486
URL:https://seperj.org.br/event/plenaria-on-line-sobre-eja-na-rede-municipal-do-rio/
END:VEVENT
BEGIN:VEVENT
DTSTART;TZID=America/Sao_Paulo:20250906T090000
DTEND;TZID=America/Sao_Paulo:20250906T090000
DTSTAMP:20260425T215011
CREATED:20250829T140639Z
LAST-MODIFIED:20250903T195247Z
UID:45382-1757149200-1757149200@seperj.org.br
SUMMARY:PLENÁRIA ONLINE DOS COLETIVOS ESTADUAL/CAPITAL DE FUNCIONÁRIOS
DESCRIPTION:
URL:https://seperj.org.br/event/plenaria-conjunta-dos-coletivos-de-funcionarios-estadual-e-da-capital-sepe/
END:VEVENT
BEGIN:VEVENT
DTSTART;TZID=America/Sao_Paulo:20250907T090000
DTEND;TZID=America/Sao_Paulo:20250907T140000
DTSTAMP:20260425T215011
CREATED:20250906T003811Z
LAST-MODIFIED:20250906T003847Z
UID:45480-1757235600-1757253600@seperj.org.br
SUMMARY:7 DE SETEMBRO: GRITO DOS EXCLUÍDOS DOMINGO 9H
DESCRIPTION:Concentração: Rua Uruguaiana\, altura da Avenida Presidente Vargas\, às 9h.
URL:https://seperj.org.br/event/7-de-setembro-grito-dos-excluidos-domingo-9h/
END:VEVENT
BEGIN:VEVENT
DTSTART;TZID=America/Sao_Paulo:20250908T190000
DTEND;TZID=America/Sao_Paulo:20250908T190000
DTSTAMP:20260425T215011
CREATED:20250821T144325Z
LAST-MODIFIED:20250908T205019Z
UID:45247-1757358000-1757358000@seperj.org.br
SUMMARY:PLENÁRIA ONLINE FUNCIONÁRIOS FORA DA SME-RIO
DESCRIPTION:Acesse: https://us02web.zoom.us/j/85642300438?pwd=FqbTFsC8IYYRkjqmYU89602fliizTo.1ID da reunião: 856 4230 0438Senha: 430060
URL:https://seperj.org.br/event/plenaria-on-line-sobre-funcionarios-fora-da-sme-rio/
END:VEVENT
BEGIN:VEVENT
DTSTART;TZID=America/Sao_Paulo:20250909T190000
DTEND;TZID=America/Sao_Paulo:20250909T190000
DTSTAMP:20260425T215011
CREATED:20250821T144451Z
LAST-MODIFIED:20250908T204854Z
UID:45249-1757444400-1757444400@seperj.org.br
SUMMARY:PLENÁRIA ONLINE DE MIGRAÇÃO NA REDE MUNICIPAL RJ
DESCRIPTION:Acesse: https://us02web.zoom.us/j/85227109844?pwd=pkJ5wcbxYrt37SAv6FaGbLTq7VkypQ.1ID da reunião: 852 2710 9844 Senha: 189326 
URL:https://seperj.org.br/event/plenaria-on-line-sobre-migracao-na-rede-municipal-do-rio/
END:VEVENT
BEGIN:VEVENT
DTSTART;TZID=America/Sao_Paulo:20250910T190000
DTEND;TZID=America/Sao_Paulo:20250910T190000
DTSTAMP:20260425T215011
CREATED:20250821T144547Z
LAST-MODIFIED:20250908T204626Z
UID:45251-1757530800-1757530800@seperj.org.br
SUMMARY:PLENÁRIA ON LINE AGENTES EDUCADORES REDE MUNICIPAL RIO
DESCRIPTION:Acesse: https://us02web.zoom.us/j/89948699312?pwd=eKN79bKykTDTyA5tWd11NnmxnP8LYb.1ID da reunião: 899 4869 9312Senha: 495446
URL:https://seperj.org.br/event/plenaria-on-line-sobre-agentes-educadores-na-rede-municipal-do-rio/
END:VEVENT
BEGIN:VEVENT
DTSTART;TZID=America/Sao_Paulo:20250912T190000
DTEND;TZID=America/Sao_Paulo:20250912T190000
DTSTAMP:20260425T215011
CREATED:20250902T140108Z
LAST-MODIFIED:20250909T134316Z
UID:45405-1757703600-1757703600@seperj.org.br
SUMMARY:PLENÁRIA ENQUADRAMENTO REDE MUNICIPAL RJ
DESCRIPTION:Doutorado e Especialização – reunião Zoomhttps://us02web.zoom.us/j/85081733976?pwd=Wt7wvQIfB9wNcqgWKLK2eS12yLLZjM.1 ID da reunião: 850 8173 3976 Senha: 425291
URL:https://seperj.org.br/event/plenaria-enquadramento-de-doutorado-e-especializacao-rede-municipal-rio/
END:VEVENT
BEGIN:VEVENT
DTSTART;TZID=America/Sao_Paulo:20250913T140000
DTEND;TZID=America/Sao_Paulo:20250913T140000
DTSTAMP:20260425T215011
CREATED:20250811T140653Z
LAST-MODIFIED:20250814T151730Z
UID:45031-1757772000-1757772000@seperj.org.br
SUMMARY:ASSEMBLEIA DA REDE ESTADUAL - CLUB MUNICIPAL
DESCRIPTION:Club Municipal (Rua Haddock Lobo\, nº 359/Auditório do 4º andar) – Conselho Deliberativo pela manhã\, no mesmo local
URL:https://seperj.org.br/event/assembleia-da-rede-estadual-local-a-definir/
END:VEVENT
BEGIN:VEVENT
DTSTART;TZID=America/Sao_Paulo:20250916T093000
DTEND;TZID=America/Sao_Paulo:20250916T093000
DTSTAMP:20260425T215011
CREATED:20250909T162440Z
LAST-MODIFIED:20250909T162440Z
UID:45519-1758015000-1758015000@seperj.org.br
SUMMARY:REUNIÃO COLETIVO ESTADUAL DE APOSENTADOS (FORMATO ONLINE)
DESCRIPTION:
URL:https://seperj.org.br/event/reuniao-coletivo-estadual-de-aposentados-formato-online/
END:VEVENT
BEGIN:VEVENT
DTSTART;TZID=America/Sao_Paulo:20250916T140000
DTEND;TZID=America/Sao_Paulo:20250916T170000
DTSTAMP:20260425T215011
CREATED:20250909T133932Z
LAST-MODIFIED:20250909T134137Z
UID:45511-1758031200-1758042000@seperj.org.br
SUMMARY:PLENÁRIA ONLINE DA ANIMAÇÃO CULTURAL
DESCRIPTION:Rede Zoom: ID: 886 7671 1351    –  Senha: 441749
URL:https://seperj.org.br/event/plenaria-online-da-animacao-cultural/
END:VEVENT
BEGIN:VEVENT
DTSTART;TZID=America/Sao_Paulo:20250916T190000
DTEND;TZID=America/Sao_Paulo:20250916T190000
DTSTAMP:20260425T215011
CREATED:20250821T144658Z
LAST-MODIFIED:20250908T204844Z
UID:45253-1758049200-1758049200@seperj.org.br
SUMMARY:PLENÁRIA ONLINE EDUCAÇÃO INFANTIL REDE MUNICIPAL RJ
DESCRIPTION:Acesse: https://us02web.zoom.us/j/82186164376?pwd=tiwj8BKQnbkLunNbbJ0yfa8wCeJO7D.1ID da reunião: 821 8616 4376Senha: 386196
URL:https://seperj.org.br/event/plenaria-on-line-sobre-eudcacao-infantil-na-rede-municipal-do-rio/
END:VEVENT
BEGIN:VEVENT
DTSTART;TZID=America/Sao_Paulo:20250917T183000
DTEND;TZID=America/Sao_Paulo:20250917T183000
DTSTAMP:20260425T215011
CREATED:20250903T141612Z
LAST-MODIFIED:20250908T204757Z
UID:45428-1758133800-1758133800@seperj.org.br
SUMMARY:REUNIÃO SECRETARIA DE GÊNERO E DEFESA DOS DIREITOS LGBTQIAPN+
DESCRIPTION:https://us02web.zoom.us/j/85442169848?pwd=QfOuwNOlEbPlvkvi1Vqn1bdomwWzV7.1      ID da reunião: 854 4216 9848     Senha: 578774
URL:https://seperj.org.br/event/reuniao-aberta-da-secretaria-de-genero-e-defesa-dos-direitos-lgbtqiapn/
END:VEVENT
BEGIN:VEVENT
DTSTART;TZID=America/Sao_Paulo:20250920T140000
DTEND;TZID=America/Sao_Paulo:20250920T170000
DTSTAMP:20260425T215011
CREATED:20250813T184548Z
LAST-MODIFIED:20250919T171818Z
UID:45111-1758376800-1758387600@seperj.org.br
SUMMARY:ASSEMBLEIA REDE MUNICIPAL RJ - CLUB MUNICIPAL
DESCRIPTION:Club Municipal (Rua Haddock Lobo\, nº 359/Auditório do 4º andar) – Conselho Deliberativo pela manhã\, no mesmo local (9h). 
URL:https://seperj.org.br/event/assembleia-rede-municipal-rj-club-municipal/
END:VEVENT
BEGIN:VEVENT
DTSTART;TZID=America/Sao_Paulo:20250921T140000
DTEND;TZID=America/Sao_Paulo:20250921T170000
DTSTAMP:20260425T215011
CREATED:20250918T200603Z
LAST-MODIFIED:20250918T200603Z
UID:45614-1758463200-1758474000@seperj.org.br
SUMMARY:PROTESTO NO POSTO 5 DE COPACABANA - SEM ANISTIA PRA GOLPISTA
DESCRIPTION:
URL:https://seperj.org.br/event/protesto-no-posto-5-de-copacabana-sem-anistia-pra-golpista/
END:VEVENT
BEGIN:VEVENT
DTSTART;TZID=America/Sao_Paulo:20250922T120000
DTEND;TZID=America/Sao_Paulo:20250922T120000
DTSTAMP:20260425T215011
CREATED:20250919T170642Z
LAST-MODIFIED:20250919T170642Z
UID:45625-1758542400-1758542400@seperj.org.br
SUMMARY:ATO PÚBLICO CONTRA DEMISSÃO DO PROF. CABRERA - NO CE ANDRÉ MAUROIS (LEBLON)
DESCRIPTION:Rua Visconde de Albuquerque 1.325 – Leblon
URL:https://seperj.org.br/event/ato-publico-contra-demissao-do-prof-cabrera-no-ce-andre-maurois-leblon/
END:VEVENT
BEGIN:VEVENT
DTSTART;TZID=America/Sao_Paulo:20250927T090000
DTEND;TZID=America/Sao_Paulo:20250927T090000
DTSTAMP:20260425T215011
CREATED:20250819T152411Z
LAST-MODIFIED:20250908T204717Z
UID:45204-1758963600-1758963600@seperj.org.br
SUMMARY:CONSELHO DELIBERATIVO REDES MUNICIPAIS/ESTADUAL
DESCRIPTION:Club Municipal (Rua Haddock Lobo 359 – Tijuca)
URL:https://seperj.org.br/event/conselho-deliberativo-redes-municipais-e-estadual-club-municipal/
END:VEVENT
BEGIN:VEVENT
DTSTART;TZID=America/Sao_Paulo:20250929T190000
DTEND;TZID=America/Sao_Paulo:20250929T190000
DTSTAMP:20260425T215011
CREATED:20250924T174213Z
LAST-MODIFIED:20250929T125418Z
UID:45688-1759172400-1759172400@seperj.org.br
SUMMARY:PLENÁRIA DOS READAPTADOS
DESCRIPTION:Zoom: https://us02web.zoom.us/j/87534108658?pwd=5wbAKtbTBpn5iZb41Ee5y5KinafR0C.1ID da reunião: 875 3410 8658    Senha: 710938
URL:https://seperj.org.br/event/plenaria-dos-readaptados/
END:VEVENT
BEGIN:VEVENT
DTSTART;TZID=America/Sao_Paulo:20250930T190000
DTEND;TZID=America/Sao_Paulo:20250930T190000
DTSTAMP:20260425T215011
CREATED:20250924T174336Z
LAST-MODIFIED:20250929T125526Z
UID:45690-1759258800-1759258800@seperj.org.br
SUMMARY:PLENÁRIA ENQUADRAMENTO DOUTORADO E MESTRADO
DESCRIPTION:Zoom: https://us02web.zoom.us/j/82455653645?pwd=aR8u2QAsLDuRXnv2XASLv9ZJPYIcyd.1ID da reunião: 824 5565 3645   Senha: 831396
URL:https://seperj.org.br/event/plenaria-enquadramento-doutorado-e-mestrado/
END:VEVENT
END:VCALENDAR