BEGIN:VCALENDAR
VERSION:2.0
PRODID:-//Sepe - ECPv6.15.20//NONSGML v1.0//EN
CALSCALE:GREGORIAN
METHOD:PUBLISH
X-WR-CALNAME:Sepe
X-ORIGINAL-URL:https://seperj.org.br
X-WR-CALDESC:Eventos para Sepe
REFRESH-INTERVAL;VALUE=DURATION:PT1H
X-Robots-Tag:noindex
X-PUBLISHED-TTL:PT1H
BEGIN:VTIMEZONE
TZID:America/Sao_Paulo
BEGIN:STANDARD
TZOFFSETFROM:-0300
TZOFFSETTO:-0300
TZNAME:-03
DTSTART:20240101T000000
END:STANDARD
END:VTIMEZONE
BEGIN:VEVENT
DTSTART;TZID=America/Sao_Paulo:20251101T100000
DTEND;TZID=America/Sao_Paulo:20251101T100000
DTSTAMP:20260425T181103
CREATED:20251020T134549Z
LAST-MODIFIED:20251023T163153Z
UID:46031-1761991200-1761991200@seperj.org.br
SUMMARY:Assembleia da rede municipal RJ - (híbrida)
DESCRIPTION:Parte presencial no auditório do Sepe As inscrições para a plenária poderão ser feitas até as 18 horas do dia 31 de outubro\, pelo link:  https://rio.seperj.info/av/
URL:https://seperj.org.br/event/assembleia-da-rede-municipal-rj-hibrida-local-a-confirmar/
END:VEVENT
BEGIN:VEVENT
DTSTART;TZID=America/Sao_Paulo:20251105T160000
DTEND;TZID=America/Sao_Paulo:20251105T180000
DTSTAMP:20260425T181103
CREATED:20251103T192350Z
LAST-MODIFIED:20251103T192350Z
UID:46248-1762358400-1762365600@seperj.org.br
SUMMARY:Protesto unificado contra o governador
DESCRIPTION:Concentração às 16h\, Largo do Machado\, e passeata até o Palácio
URL:https://seperj.org.br/event/protesto-unificado-contra-o-governador/
END:VEVENT
BEGIN:VEVENT
DTSTART;TZID=America/Sao_Paulo:20251107T180000
DTEND;TZID=America/Sao_Paulo:20251107T180000
DTSTAMP:20260425T181103
CREATED:20251103T164414Z
LAST-MODIFIED:20251103T164414Z
UID:46241-1762538400-1762538400@seperj.org.br
SUMMARY:Plenária do Fórum EJA - No Sepe
DESCRIPTION:auditório do Sepe (Rua Evaristo da Veiga\, 55 – 7 andar)
URL:https://seperj.org.br/event/plenaria-do-forum-eja-no-sepe/
END:VEVENT
BEGIN:VEVENT
DTSTART;TZID=America/Sao_Paulo:20251108T100000
DTEND;TZID=America/Sao_Paulo:20251108T130000
DTSTAMP:20260425T181103
CREATED:20251023T192133Z
LAST-MODIFIED:20251103T142912Z
UID:46112-1762596000-1762606800@seperj.org.br
SUMMARY:Assembleia híbrida da rede estadual - (presencial no auditório do Sepe)
DESCRIPTION:Link para inscrição: https://redeestadual.seperj.info/av/ – Término das inscrições na sexta-feira\, dia 07 de novembro\, 18 horas.
URL:https://seperj.org.br/event/assembleia-hibrida-da-rede-estadual/
END:VEVENT
BEGIN:VEVENT
DTSTART;TZID=America/Sao_Paulo:20251110T140000
DTEND;TZID=America/Sao_Paulo:20251110T170000
DTSTAMP:20260425T181103
CREATED:20251110T133218Z
LAST-MODIFIED:20251110T133218Z
UID:46293-1762783200-1762794000@seperj.org.br
SUMMARY:Audiência pública na ALERJ debate a reforma administrativa e os impactos nos servidores do estado
DESCRIPTION:
URL:https://seperj.org.br/event/audiencia-publica-na-alerj-debate-a-reforma-administrativa-e-os-impactos-nos-servidores-do-estado/
END:VEVENT
BEGIN:VEVENT
DTSTART;TZID=America/Sao_Paulo:20251111T140000
DTEND;TZID=America/Sao_Paulo:20251111T170000
DTSTAMP:20260425T181103
CREATED:20251111T134217Z
LAST-MODIFIED:20251111T134217Z
UID:46314-1762869600-1762880400@seperj.org.br
SUMMARY:Reunião online do Coletivo de Aposentados da Capital (Rede Zoom)
DESCRIPTION:
URL:https://seperj.org.br/event/reuniao-online-do-coletivo-de-aposentados-da-capital-rede-zoom/
END:VEVENT
BEGIN:VEVENT
DTSTART;TZID=America/Sao_Paulo:20251118T093000
DTEND;TZID=America/Sao_Paulo:20251118T093000
DTSTAMP:20260425T181103
CREATED:20251111T151613Z
LAST-MODIFIED:20251111T151613Z
UID:46318-1763458200-1763458200@seperj.org.br
SUMMARY:Plenária do Coletivo Estadual dos Aposentados
DESCRIPTION:
URL:https://seperj.org.br/event/plenaria-do-coletivo-estadual-dos-aposentados-2/
END:VEVENT
BEGIN:VEVENT
DTSTART;TZID=America/Sao_Paulo:20251121T103000
DTEND;TZID=America/Sao_Paulo:20251121T123000
DTSTAMP:20260425T181103
CREATED:20251120T190251Z
LAST-MODIFIED:20251120T190251Z
UID:46429-1763721000-1763728200@seperj.org.br
SUMMARY:Plenária online URGENTE para tratar dos ataques pedagógicos na rede estadual de ensino
DESCRIPTION:Link: https://us02web.zoom.us/j/89350922667?pwd=JNFN6OcbAnx5pejJVbaab5fPuvQbHa.1ID da reunião: 893 5092 2667 Senha: 790134
URL:https://seperj.org.br/event/plenaria-online-urgente-para-tratar-dos-ataques-pedagogicos-na-rede-estadual-de-ensino/
END:VEVENT
BEGIN:VEVENT
DTSTART;TZID=America/Sao_Paulo:20251126T190000
DTEND;TZID=America/Sao_Paulo:20251126T190000
DTSTAMP:20260425T181103
CREATED:20251124T154546Z
LAST-MODIFIED:20251124T154546Z
UID:46437-1764183600-1764183600@seperj.org.br
SUMMARY:NEEI do Sepe RJ - Encontro de retomada das atividades - Via Zoom
DESCRIPTION:
URL:https://seperj.org.br/event/neei-do-sepe-rj-encontro-de-retomada-das-atividades-via-zoom/
END:VEVENT
BEGIN:VEVENT
DTSTART;TZID=America/Sao_Paulo:20251127T183000
DTEND;TZID=America/Sao_Paulo:20251127T183000
DTSTAMP:20260425T181103
CREATED:20251117T142440Z
LAST-MODIFIED:20251117T142440Z
UID:46386-1764268200-1764268200@seperj.org.br
SUMMARY:Audiência Pública sobre impacto da minutagem - na Câmara dos Vereadores
DESCRIPTION:auditório da Câmara Municipal
URL:https://seperj.org.br/event/audiencia-publica-sobre-impacto-da-minutagem-na-camara-dos-vereadores/
END:VEVENT
BEGIN:VEVENT
DTSTART;TZID=America/Sao_Paulo:20251129T100000
DTEND;TZID=America/Sao_Paulo:20251129T100000
DTSTAMP:20260425T181103
CREATED:20251127T161519Z
LAST-MODIFIED:20251127T161519Z
UID:46519-1764410400-1764410400@seperj.org.br
SUMMARY:GT de violência nas Escolas - Museu da Maré
DESCRIPTION:Organização: Regional IV do Sepe – local: Museu da Maré (Av. Guilherme Maxwell 26
URL:https://seperj.org.br/event/gt-de-violencia-nas-escolas-museu-da-mare/
END:VEVENT
END:VCALENDAR