BEGIN:VCALENDAR
VERSION:2.0
PRODID:-//Sepe - ECPv6.15.20//NONSGML v1.0//EN
CALSCALE:GREGORIAN
METHOD:PUBLISH
X-ORIGINAL-URL:https://seperj.org.br
X-WR-CALDESC:Eventos para Sepe
REFRESH-INTERVAL;VALUE=DURATION:PT1H
X-Robots-Tag:noindex
X-PUBLISHED-TTL:PT1H
BEGIN:VTIMEZONE
TZID:America/Sao_Paulo
BEGIN:STANDARD
TZOFFSETFROM:-0300
TZOFFSETTO:-0300
TZNAME:-03
DTSTART:20250101T000000
END:STANDARD
END:VTIMEZONE
BEGIN:VEVENT
DTSTART;TZID=America/Sao_Paulo:20260107T100000
DTEND;TZID=America/Sao_Paulo:20260107T100000
DTSTAMP:20260425T143403
CREATED:20260105T140535Z
LAST-MODIFIED:20260105T140535Z
UID:46880-1767780000-1767780000@seperj.org.br
SUMMARY:Protocolaço na prefeitura para exigir o 14º salário para todos
DESCRIPTION:
URL:https://seperj.org.br/event/protocolaco-na-prefeitura-para-exigir-o-14o-salario-para-todos/
END:VEVENT
BEGIN:VEVENT
DTSTART;VALUE=DATE:20260113
DTEND;VALUE=DATE:20260114
DTSTAMP:20260425T143403
CREATED:20251205T153123Z
LAST-MODIFIED:20251205T153123Z
UID:46652-1768262400-1768348799@seperj.org.br
SUMMARY:Lançamento série sobre a Operação Condor
DESCRIPTION:
URL:https://seperj.org.br/event/lancamento-serie-sobre-a-operacao-condor/
LOCATION:Clube de Engenharia\, Av. Rio Branco\, 124\, Rio de Janeiro\, Brazil
END:VEVENT
BEGIN:VEVENT
DTSTART;VALUE=DATE:20260115
DTEND;VALUE=DATE:20260116
DTSTAMP:20260425T143403
CREATED:20251205T152913Z
LAST-MODIFIED:20260109T143041Z
UID:46650-1768435200-1768521599@seperj.org.br
SUMMARY:35º Congresso Nacional da CNTE (início)
DESCRIPTION:de 15 a 18 de janeiro de 2026\, Brasília
URL:https://seperj.org.br/event/congresso-nacional-da-cnte/
LOCATION:Brasília\, Distrito Federal\, Brasil
END:VEVENT
END:VCALENDAR