BEGIN:VCALENDAR
VERSION:2.0
PRODID:-//Sepe - ECPv6.15.13.1//NONSGML v1.0//EN
CALSCALE:GREGORIAN
METHOD:PUBLISH
X-WR-CALNAME:Sepe
X-ORIGINAL-URL:https://seperj.org.br
X-WR-CALDESC:Eventos para Sepe
REFRESH-INTERVAL;VALUE=DURATION:PT1H
X-Robots-Tag:noindex
X-PUBLISHED-TTL:PT1H
BEGIN:VTIMEZONE
TZID:America/Sao_Paulo
BEGIN:STANDARD
TZOFFSETFROM:-0300
TZOFFSETTO:-0300
TZNAME:-03
DTSTART:20220101T000000
END:STANDARD
END:VTIMEZONE
BEGIN:VEVENT
DTSTART;TZID=America/Sao_Paulo:20230912T180000
DTEND;TZID=America/Sao_Paulo:20230912T180000
DTSTAMP:20260419T174211
CREATED:20230828T165458Z
LAST-MODIFIED:20230912T140742Z
UID:38393-1694541600-1694541600@seperj.org.br
SUMMARY:PLENÁRIA ON-LINE DO SEPE SOBRE A CONAEE 2024
DESCRIPTION:No dia 12 de setembro\, às 18h\, participe da plenária on-line no Sepe sobre a CONAEE (Conferência Nacional Extraordinária de Educação)\, que ocorrerá de 28 a 31 de janeiro de 2024\, em Brasília (DF)\, com o tema “Plano Nacional de Educação (2024-2034): política de Estado para a garantia da educação como direito humano\, com justiça social e desenvolvimento socioambiental sustentável”. Para entrar na reunião (plataforma Zoom) bit.ly/ReuniaoCONAEE12jul ouhttps://us02web.zoom.us/j/2329119780…ID da reunião: 232 911 9780Senha de acesso: 491256
URL:https://seperj.org.br/event/plenaria-do-sepe-sobre-a-conaee-conferencia-nacional-extraordinaria-de-educacao-no-auditorio-do-sindicato/
END:VEVENT
END:VCALENDAR