BEGIN:VCALENDAR
VERSION:2.0
PRODID:-//Sepe - ECPv6.15.20//NONSGML v1.0//EN
CALSCALE:GREGORIAN
METHOD:PUBLISH
X-ORIGINAL-URL:https://seperj.org.br
X-WR-CALDESC:Eventos para Sepe
REFRESH-INTERVAL;VALUE=DURATION:PT1H
X-Robots-Tag:noindex
X-PUBLISHED-TTL:PT1H
BEGIN:VTIMEZONE
TZID:America/Sao_Paulo
BEGIN:STANDARD
TZOFFSETFROM:-0300
TZOFFSETTO:-0300
TZNAME:-03
DTSTART:20220101T000000
END:STANDARD
END:VTIMEZONE
BEGIN:VEVENT
DTSTART;TZID=America/Sao_Paulo:20231205T180000
DTEND;TZID=America/Sao_Paulo:20231205T210000
DTSTAMP:20260424T230321
CREATED:20231127T163953Z
LAST-MODIFIED:20231127T163953Z
UID:38957-1701799200-1701810000@seperj.org.br
SUMMARY:Plenária LGBT dos profissionais da Educação
DESCRIPTION:
URL:https://seperj.org.br/event/plenaria-lgbt-dos-profissionais-da-educacao/
LOCATION:Sepe Central
END:VEVENT
END:VCALENDAR