BEGIN:VCALENDAR
VERSION:2.0
PRODID:-//Sepe - ECPv6.15.20//NONSGML v1.0//EN
CALSCALE:GREGORIAN
METHOD:PUBLISH
X-WR-CALNAME:Sepe
X-ORIGINAL-URL:https://seperj.org.br
X-WR-CALDESC:Eventos para Sepe
REFRESH-INTERVAL;VALUE=DURATION:PT1H
X-Robots-Tag:noindex
X-PUBLISHED-TTL:PT1H
BEGIN:VTIMEZONE
TZID:America/Sao_Paulo
BEGIN:STANDARD
TZOFFSETFROM:-0300
TZOFFSETTO:-0300
TZNAME:-03
DTSTART:20220101T000000
END:STANDARD
END:VTIMEZONE
BEGIN:VEVENT
DTSTART;TZID=America/Sao_Paulo:20230415T090000
DTEND;TZID=America/Sao_Paulo:20230415T123000
DTSTAMP:20260424T174843
CREATED:20230411T133311Z
LAST-MODIFIED:20230411T210809Z
UID:37020-1681549200-1681561800@seperj.org.br
SUMMARY:ASSEMBLEIA DA REDE MUNICIPAL RJ (EM REALENGO)
DESCRIPTION:Local: Colégio Pedro II: Rua Bernardo de Vasconcelos 941\, Realengo
URL:https://seperj.org.br/event/assembleia-da-rede-municipal-rj-9/
LOCATION:Colégio Pedro II Realengo\, R. Bernardo de Vasconcelos\, 941\, rio de janeiro\, Brasil
END:VEVENT
END:VCALENDAR